BEGIN:VCALENDAR
VERSION:2.0
PRODID:-//Klosterlandschaft OWL - ECPv6.15.20//NONSGML v1.0//EN
CALSCALE:GREGORIAN
METHOD:PUBLISH
X-ORIGINAL-URL:https://klosterlandschaft-owl.de
X-WR-CALDESC:Veranstaltungen für Klosterlandschaft OWL
REFRESH-INTERVAL;VALUE=DURATION:PT1H
X-Robots-Tag:noindex
X-PUBLISHED-TTL:PT1H
BEGIN:VTIMEZONE
TZID:Europe/Berlin
BEGIN:DAYLIGHT
TZOFFSETFROM:+0100
TZOFFSETTO:+0200
TZNAME:CEST
DTSTART:20250330T010000
END:DAYLIGHT
BEGIN:STANDARD
TZOFFSETFROM:+0200
TZOFFSETTO:+0100
TZNAME:CET
DTSTART:20251026T010000
END:STANDARD
BEGIN:DAYLIGHT
TZOFFSETFROM:+0100
TZOFFSETTO:+0200
TZNAME:CEST
DTSTART:20260329T010000
END:DAYLIGHT
BEGIN:STANDARD
TZOFFSETFROM:+0200
TZOFFSETTO:+0100
TZNAME:CET
DTSTART:20261025T010000
END:STANDARD
BEGIN:DAYLIGHT
TZOFFSETFROM:+0100
TZOFFSETTO:+0200
TZNAME:CEST
DTSTART:20270328T010000
END:DAYLIGHT
BEGIN:STANDARD
TZOFFSETFROM:+0200
TZOFFSETTO:+0100
TZNAME:CET
DTSTART:20271031T010000
END:STANDARD
END:VTIMEZONE
BEGIN:VEVENT
DTSTART;TZID=Europe/Berlin:20260405T200000
DTEND;TZID=Europe/Berlin:20260405T200000
DTSTAMP:20260422T140423
CREATED:20260401T064015Z
LAST-MODIFIED:20260401T064015Z
UID:31988-1775419200-1775419200@klosterlandschaft-owl.de
SUMMARY:Osterlichtandacht
DESCRIPTION:Die Lebensgemeinschaft St. Raphael in Papenhausen lädt für Ostersonntag\, 5. April 2026\, auf 20 Uhr zu einer Osterlichtandacht in die Hauskapelle St. Raphael\, Am Kahlen Berge 3\, Bad Salzuflen-Papenhausen ein. Anschließend entzünden die Teilnehmer ein Osterlicht in der Feuerschale\, bei dem es auch Getränke und Gegrilltes gibt. Gemeinsam soll die innere Glut des Friedens und der Liebe symbolisch durch das Osterlicht entfacht werden\, um dem beständigen Glück etwas näher zu kommen. \nWer mag\, kann vor der Osterandacht am Pilgerweg teilnehmen\, der ab 18.30 Uhr mit Matthias Schmidt von der Ev.-luth. Kirche Bergkirchen über den X9-Hansaweg ca. 6 km zur Kapelle St. Raphael führt. Für den Rücktransport von Papenhausen nach Bergkirchen wird um Anmeldung gebeten\, ebenso für die Teilnahme am Pilgerweg und an der Andacht. \nAnmeldung bitte an: \nSankt Raphael-Werte leben e.V.\nManuela Baumann\, Tel. 05222 22351\noder\nMatthias Schmidt\, Tel. 05222 870063 / Mob. 0170 4060980 (Threema\, Signal\, Telegram)
URL:https://klosterlandschaft-owl.de/event/osterlichtandacht/
LOCATION:Bad Salzuflen-Papenhausen | Lebensgemeinschaft St. Raphael\, Am Kahlen Berge 3\, Bad Salzuflen-Papenhausen\, NRW\, 32108\, Deutschland
CATEGORIES:alle
ORGANIZER;CN="Lebensgemeinschaft St. Raphael":MAILTO:info@raphaels-musik.de
END:VEVENT
BEGIN:VEVENT
DTSTART;TZID=Europe/Berlin:20260326T180000
DTEND;TZID=Europe/Berlin:20260326T180000
DTSTAMP:20260422T140423
CREATED:20250421T162735Z
LAST-MODIFIED:20260211T100216Z
UID:31848-1774548000-1774548000@klosterlandschaft-owl.de
SUMMARY:Heilungsgebet
DESCRIPTION:»Das Größte in unserem Leben ist die Liebe. Sie heilt Verletzungen und Wunden. Durch gemeinsames Gebet\, Musik und Meditation bitten wir Gott für uns und unsere Mitmenschen um dieses hohe Gut der Liebe.« \nDas Heilungsgebet findet jeweils am letzten Donnerstag eines Monats um 18.00 Uhr in der St.Raphael-Kapelle\, Papenhausen\, statt.
URL:https://klosterlandschaft-owl.de/event/heilungsgebet-2026-01-29/2026-03-26/
LOCATION:Bad Salzuflen-Papenhausen | Lebensgemeinschaft St. Raphael\, Am Kahlen Berge 3\, Bad Salzuflen-Papenhausen\, NRW\, 32108\, Deutschland
CATEGORIES:alle
END:VEVENT
BEGIN:VEVENT
DTSTART;TZID=Europe/Berlin:20260226T180000
DTEND;TZID=Europe/Berlin:20260226T180000
DTSTAMP:20260422T140423
CREATED:20250421T162735Z
LAST-MODIFIED:20260211T100215Z
UID:31847-1772128800-1772128800@klosterlandschaft-owl.de
SUMMARY:Heilungsgebet
DESCRIPTION:»Das Größte in unserem Leben ist die Liebe. Sie heilt Verletzungen und Wunden. Durch gemeinsames Gebet\, Musik und Meditation bitten wir Gott für uns und unsere Mitmenschen um dieses hohe Gut der Liebe.« \nDas Heilungsgebet findet jeweils am letzten Donnerstag eines Monats um 18.00 Uhr in der St.Raphael-Kapelle\, Papenhausen\, statt.
URL:https://klosterlandschaft-owl.de/event/heilungsgebet-2026-01-29/2026-02-26/
LOCATION:Bad Salzuflen-Papenhausen | Lebensgemeinschaft St. Raphael\, Am Kahlen Berge 3\, Bad Salzuflen-Papenhausen\, NRW\, 32108\, Deutschland
CATEGORIES:alle
END:VEVENT
BEGIN:VEVENT
DTSTART;TZID=Europe/Berlin:20260129T180000
DTEND;TZID=Europe/Berlin:20260129T180000
DTSTAMP:20260422T140423
CREATED:20250421T162735Z
LAST-MODIFIED:20260211T100214Z
UID:29998-1769709600-1769709600@klosterlandschaft-owl.de
SUMMARY:Heilungsgebet
DESCRIPTION:»Das Größte in unserem Leben ist die Liebe. Sie heilt Verletzungen und Wunden. Durch gemeinsames Gebet\, Musik und Meditation bitten wir Gott für uns und unsere Mitmenschen um dieses hohe Gut der Liebe.« \nDas Heilungsgebet findet jeweils am letzten Donnerstag eines Monats um 18.00 Uhr in der St.Raphael-Kapelle\, Papenhausen\, statt.
URL:https://klosterlandschaft-owl.de/event/heilungsgebet-2026-01-29/2026-01-29/
LOCATION:Bad Salzuflen-Papenhausen | Lebensgemeinschaft St. Raphael\, Am Kahlen Berge 3\, Bad Salzuflen-Papenhausen\, NRW\, 32108\, Deutschland
CATEGORIES:alle
END:VEVENT
END:VCALENDAR