BEGIN:VCALENDAR
VERSION:2.0
PRODID:-//Klosterlandschaft OWL - ECPv6.15.20//NONSGML v1.0//EN
CALSCALE:GREGORIAN
METHOD:PUBLISH
X-ORIGINAL-URL:https://klosterlandschaft-owl.de
X-WR-CALDESC:Veranstaltungen für Klosterlandschaft OWL
REFRESH-INTERVAL;VALUE=DURATION:PT1H
X-Robots-Tag:noindex
X-PUBLISHED-TTL:PT1H
BEGIN:VTIMEZONE
TZID:Europe/Berlin
BEGIN:DAYLIGHT
TZOFFSETFROM:+0100
TZOFFSETTO:+0200
TZNAME:CEST
DTSTART:20250330T010000
END:DAYLIGHT
BEGIN:STANDARD
TZOFFSETFROM:+0200
TZOFFSETTO:+0100
TZNAME:CET
DTSTART:20251026T010000
END:STANDARD
BEGIN:DAYLIGHT
TZOFFSETFROM:+0100
TZOFFSETTO:+0200
TZNAME:CEST
DTSTART:20260329T010000
END:DAYLIGHT
BEGIN:STANDARD
TZOFFSETFROM:+0200
TZOFFSETTO:+0100
TZNAME:CET
DTSTART:20261025T010000
END:STANDARD
BEGIN:DAYLIGHT
TZOFFSETFROM:+0100
TZOFFSETTO:+0200
TZNAME:CEST
DTSTART:20270328T010000
END:DAYLIGHT
BEGIN:STANDARD
TZOFFSETFROM:+0200
TZOFFSETTO:+0100
TZNAME:CET
DTSTART:20271031T010000
END:STANDARD
END:VTIMEZONE
BEGIN:VEVENT
DTSTART;TZID=Europe/Berlin:20260524T170000
DTEND;TZID=Europe/Berlin:20260524T170000
DTSTAMP:20260422T135739
CREATED:20260128T185018Z
LAST-MODIFIED:20260314T135726Z
UID:31819-1779642000-1779642000@klosterlandschaft-owl.de
SUMMARY:Ad Festum - Orgelvesper zu Pfingsten
DESCRIPTION:Mit dem Chor »Living Voices« unter der Leitung von Volker Schrewe. Die Orgel wird gespielt von Jan Willem Jansen (Toulouse). Der Eintritt ist frei (Kollekte).
URL:https://klosterlandschaft-owl.de/event/ad-festum-orgelkonzert-zu-pfingsten/
LOCATION:Corvey | Abteikirche\, Corvey\, Höxter-Corvey\, 37671
CATEGORIES:alle
END:VEVENT
BEGIN:VEVENT
DTSTART;TZID=Europe/Berlin:20260614T170000
DTEND;TZID=Europe/Berlin:20260614T170000
DTSTAMP:20260422T135739
CREATED:20260128T185205Z
LAST-MODIFIED:20260128T185222Z
UID:31821-1781456400-1781456400@klosterlandschaft-owl.de
SUMMARY:Sonntagsvesper
DESCRIPTION:1. Vesper zum Vitus-Fest \nMit der Gregorianik-Schola Marienmünster-Corvey | Hans Hermann Jansen – Leitung / Orgel \nEintritt frei (Kollekte).
URL:https://klosterlandschaft-owl.de/event/sonntagsvesper/
LOCATION:Corvey | Abteikirche\, Corvey\, Höxter-Corvey\, 37671
CATEGORIES:alle
END:VEVENT
BEGIN:VEVENT
DTSTART;VALUE=DATE:20260621
DTEND;VALUE=DATE:20260622
DTSTAMP:20260422T135739
CREATED:20260129T084214Z
LAST-MODIFIED:20260129T084214Z
UID:31841-1782000000-1782086399@klosterlandschaft-owl.de
SUMMARY:Vitus-Fest
DESCRIPTION:
URL:https://klosterlandschaft-owl.de/event/vitus-fest/
LOCATION:Corvey | Abteikirche\, Corvey\, Höxter-Corvey\, 37671
CATEGORIES:alle
END:VEVENT
BEGIN:VEVENT
DTSTART;TZID=Europe/Berlin:20260712T170000
DTEND;TZID=Europe/Berlin:20260712T170000
DTSTAMP:20260422T135739
CREATED:20260128T185351Z
LAST-MODIFIED:20260128T185351Z
UID:31826-1783875600-1783875600@klosterlandschaft-owl.de
SUMMARY:Sonntagsvesper
DESCRIPTION:Prof. Dr. Friedhelm Flamme – Orgel \nEintritt frei (Kollekte).
URL:https://klosterlandschaft-owl.de/event/sonntagsvesper-2/
LOCATION:Corvey | Abteikirche\, Corvey\, Höxter-Corvey\, 37671
CATEGORIES:alle
END:VEVENT
BEGIN:VEVENT
DTSTART;TZID=Europe/Berlin:20260809T170000
DTEND;TZID=Europe/Berlin:20260809T170000
DTSTAMP:20260422T135739
CREATED:20260128T185513Z
LAST-MODIFIED:20260412T115017Z
UID:31828-1786294800-1786294800@klosterlandschaft-owl.de
SUMMARY:Sonntagsvesper
DESCRIPTION:Zum Abschluss der Bach-Wanderung. Alessandro Bianchi (Como/Italien) – Orgel \nEintritt frei (Kollekte).
URL:https://klosterlandschaft-owl.de/event/sonntagsvesper-3/
LOCATION:Corvey | Abteikirche\, Corvey\, Höxter-Corvey\, 37671
CATEGORIES:alle,Festival
END:VEVENT
BEGIN:VEVENT
DTSTART;TZID=Europe/Berlin:20260913T170000
DTEND;TZID=Europe/Berlin:20260913T170000
DTSTAMP:20260422T135739
CREATED:20260128T185645Z
LAST-MODIFIED:20260128T185645Z
UID:31830-1789318800-1789318800@klosterlandschaft-owl.de
SUMMARY:Orgelvesper
DESCRIPTION:Am Tag des offenen Denkmals – Thema: NETZwerke: Denkmale & Infrastruktur \nProf. Dr. Friedhelm Flamme – Orgel \nEintritt frei (Kollekte).
URL:https://klosterlandschaft-owl.de/event/orgelvesper-2/
LOCATION:Corvey | Abteikirche\, Corvey\, Höxter-Corvey\, 37671
CATEGORIES:alle
END:VEVENT
BEGIN:VEVENT
DTSTART;TZID=Europe/Berlin:20260925T210000
DTEND;TZID=Europe/Berlin:20260925T210000
DTSTAMP:20260422T135739
CREATED:20260412T115924Z
LAST-MODIFIED:20260412T120641Z
UID:31999-1790370000-1790370000@klosterlandschaft-owl.de
SUMMARY:Blue Church I
DESCRIPTION:Von den Engeln.\nCharlotte Kulow · Sopran | Gregorianik-Schola Marienmünster und Corvey \nDer Eintritt ist frei (Kollekte).
URL:https://klosterlandschaft-owl.de/event/blue-church-4/
LOCATION:Corvey | Abteikirche\, Corvey\, Höxter-Corvey\, 37671
CATEGORIES:alle
END:VEVENT
BEGIN:VEVENT
DTSTART;TZID=Europe/Berlin:20261003T170000
DTEND;TZID=Europe/Berlin:20261003T170000
DTSTAMP:20260422T135739
CREATED:20260128T185854Z
LAST-MODIFIED:20260128T185854Z
UID:31832-1791046800-1791046800@klosterlandschaft-owl.de
SUMMARY:Feierliche Vesper zum Tag der deutschen Einheit
DESCRIPTION:Vereinigte Chöre der Region OWL\, Kammerorchester und Solisten | Chorwerke von Mendelssohn (Psalm 42) u. a. | Leitung: Gregor Schwarz (Detmold) \nEintritt frei (Kollekte).
URL:https://klosterlandschaft-owl.de/event/feierliche-vesper-zum-tag-der-deutschen-einheit/
LOCATION:Corvey | Abteikirche\, Corvey\, Höxter-Corvey\, 37671
CATEGORIES:alle
END:VEVENT
BEGIN:VEVENT
DTSTART;TZID=Europe/Berlin:20261030T200000
DTEND;TZID=Europe/Berlin:20261030T200000
DTSTAMP:20260422T135739
CREATED:20260128T190044Z
LAST-MODIFIED:20260412T120608Z
UID:31836-1793390400-1793390400@klosterlandschaft-owl.de
SUMMARY:Blue Church II
DESCRIPTION:Von den Heiligen.\nBenny Düring · Jazz-Piano \nEintritt frei (Kollekte).
URL:https://klosterlandschaft-owl.de/event/blue-church-2/
LOCATION:Corvey | Abteikirche\, Corvey\, Höxter-Corvey\, 37671
CATEGORIES:alle
END:VEVENT
BEGIN:VEVENT
DTSTART;TZID=Europe/Berlin:20261127T200000
DTEND;TZID=Europe/Berlin:20261127T200000
DTSTAMP:20260422T135739
CREATED:20260128T190144Z
LAST-MODIFIED:20260412T121418Z
UID:31838-1795809600-1795809600@klosterlandschaft-owl.de
SUMMARY:Blue Church III
DESCRIPTION:Von der neuen Zeit\nMit Teilnehmern des 35. Gregorianik-Kurses | Leitung: Hans Hermann Jansen \nDer Eintritt ist frei (Kollekte).
URL:https://klosterlandschaft-owl.de/event/blue-church-3/
LOCATION:Corvey | Abteikirche\, Corvey\, Höxter-Corvey\, 37671
CATEGORIES:alle
END:VEVENT
END:VCALENDAR