BEGIN:VCALENDAR
VERSION:2.0
PRODID:-//Klosterlandschaft OWL - ECPv6.15.20//NONSGML v1.0//EN
CALSCALE:GREGORIAN
METHOD:PUBLISH
X-ORIGINAL-URL:https://klosterlandschaft-owl.de
X-WR-CALDESC:Veranstaltungen für Klosterlandschaft OWL
REFRESH-INTERVAL;VALUE=DURATION:PT1H
X-Robots-Tag:noindex
X-PUBLISHED-TTL:PT1H
BEGIN:VTIMEZONE
TZID:Europe/Berlin
BEGIN:DAYLIGHT
TZOFFSETFROM:+0100
TZOFFSETTO:+0200
TZNAME:CEST
DTSTART:20250330T010000
END:DAYLIGHT
BEGIN:STANDARD
TZOFFSETFROM:+0200
TZOFFSETTO:+0100
TZNAME:CET
DTSTART:20251026T010000
END:STANDARD
BEGIN:DAYLIGHT
TZOFFSETFROM:+0100
TZOFFSETTO:+0200
TZNAME:CEST
DTSTART:20260329T010000
END:DAYLIGHT
BEGIN:STANDARD
TZOFFSETFROM:+0200
TZOFFSETTO:+0100
TZNAME:CET
DTSTART:20261025T010000
END:STANDARD
BEGIN:DAYLIGHT
TZOFFSETFROM:+0100
TZOFFSETTO:+0200
TZNAME:CEST
DTSTART:20270328T010000
END:DAYLIGHT
BEGIN:STANDARD
TZOFFSETFROM:+0200
TZOFFSETTO:+0100
TZNAME:CET
DTSTART:20271031T010000
END:STANDARD
END:VTIMEZONE
BEGIN:VEVENT
DTSTART;VALUE=DATE:20260928
DTEND;VALUE=DATE:20261003
DTSTAMP:20260422T164550
CREATED:20251005T110831Z
LAST-MODIFIED:20251005T111359Z
UID:30490-1790553600-1790985599@klosterlandschaft-owl.de
SUMMARY:Exerzitien in der Kleingruppe
DESCRIPTION:Die Tage laden ein\, achtsames Leben einzuüben und Gottes Führung im eigenen Leben neu zu entdecken. Tägliche Elemente sind durchgängiges Schweigen\, Hören auf das Wort Gottes\, persönliches Gebet; Einladung zur Feier der Liturgie mit dem Konvent; Impuls in der Gruppe sowie Einzelgespräch.
URL:https://klosterlandschaft-owl.de/event/exerzitien-in-der-kleingruppe-2/2026-09-28/
LOCATION:Herstelle | Benediktinerinnenabtei vom Hl. Kreuz\, Carolus-Magnus-Str. 9\, Beverungen-Herstelle\, 37688
CATEGORIES:alle,Kurse
GEO:51.64018;9.41897
X-APPLE-STRUCTURED-LOCATION;VALUE=URI;X-ADDRESS=Herstelle | Benediktinerinnenabtei vom Hl. Kreuz Carolus-Magnus-Str. 9 Beverungen-Herstelle 37688;X-APPLE-RADIUS=500;X-TITLE=Carolus-Magnus-Str. 9:geo:9.41897,51.64018
END:VEVENT
BEGIN:VEVENT
DTSTART;VALUE=DATE:20261002
DTEND;VALUE=DATE:20261005
DTSTAMP:20260422T164550
CREATED:20251007T052027Z
LAST-MODIFIED:20251007T052027Z
UID:30531-1790899200-1791158399@klosterlandschaft-owl.de
SUMMARY:Tanz als Gebet: Tanztage für Frauen
DESCRIPTION:„Was dich aufblühen lasst\, dem gehe nach!“ Ulrich Schaffer \nMeditatives Tanzen im Kreis um eine Mitte\, die sammelt und sendet. In Schritten und Gebärden einen Ausdruck finden für: Freude und Hoffnung\, Lob und Klage\, Vertrauen und Dank. So wird Tanz zum Gebet\, zum Mitschwingen mit der Geistkraft Gottes\, mit Leib und Seele\, Hand und Fuß.  Es bleibt Zeit für die Teilnahme an den klösterlichen Gebetszeiten.
URL:https://klosterlandschaft-owl.de/event/tanz-als-gebet-tanztage-fuer-frauen/2026-10-02/
LOCATION:Herstelle | Benediktinerinnenabtei vom Hl. Kreuz\, Carolus-Magnus-Str. 9\, Beverungen-Herstelle\, 37688
CATEGORIES:alle,Kurse
GEO:51.64018;9.41897
X-APPLE-STRUCTURED-LOCATION;VALUE=URI;X-ADDRESS=Herstelle | Benediktinerinnenabtei vom Hl. Kreuz Carolus-Magnus-Str. 9 Beverungen-Herstelle 37688;X-APPLE-RADIUS=500;X-TITLE=Carolus-Magnus-Str. 9:geo:9.41897,51.64018
END:VEVENT
BEGIN:VEVENT
DTSTART;TZID=Europe/Berlin:20261003T170000
DTEND;TZID=Europe/Berlin:20261003T170000
DTSTAMP:20260422T164550
CREATED:20260128T185854Z
LAST-MODIFIED:20260128T185854Z
UID:31832-1791046800-1791046800@klosterlandschaft-owl.de
SUMMARY:Feierliche Vesper zum Tag der deutschen Einheit
DESCRIPTION:Vereinigte Chöre der Region OWL\, Kammerorchester und Solisten | Chorwerke von Mendelssohn (Psalm 42) u. a. | Leitung: Gregor Schwarz (Detmold) \nEintritt frei (Kollekte).
URL:https://klosterlandschaft-owl.de/event/feierliche-vesper-zum-tag-der-deutschen-einheit/
LOCATION:Corvey | Abteikirche\, Corvey\, Höxter-Corvey\, 37671
CATEGORIES:alle
END:VEVENT
BEGIN:VEVENT
DTSTART;TZID=Europe/Berlin:20261003T180000
DTEND;TZID=Europe/Berlin:20261003T180000
DTSTAMP:20260422T164550
CREATED:20260112T104703Z
LAST-MODIFIED:20260112T104703Z
UID:31233-1791050400-1791050400@klosterlandschaft-owl.de
SUMMARY:Musikfestival mixTour – Renaissance der Musik
DESCRIPTION:Abschlusskonzert\nGerman Gents \nVVK: marien-lemgo.de/tickets
URL:https://klosterlandschaft-owl.de/event/musikfestival-mixtour-renaissance-der-musik-2/
LOCATION:Lemgo | St. Marien\, Ev.-Luth. Kirchengemeinde St. Marien | Stiftstr. 7\, Lemgo\, 32657
CATEGORIES:alle,Festival
GEO:52.0263482;8.8954146
X-APPLE-STRUCTURED-LOCATION;VALUE=URI;X-ADDRESS=Lemgo | St. Marien Ev.-Luth. Kirchengemeinde St. Marien | Stiftstr. 7 Lemgo 32657;X-APPLE-RADIUS=500;X-TITLE=Ev.-Luth. Kirchengemeinde St. Marien | Stiftstr. 7:geo:8.8954146,52.0263482
END:VEVENT
BEGIN:VEVENT
DTSTART;VALUE=DATE:20261005
DTEND;VALUE=DATE:20261010
DTSTAMP:20260422T164550
CREATED:20251007T045323Z
LAST-MODIFIED:20251007T045323Z
UID:30504-1791158400-1791590399@klosterlandschaft-owl.de
SUMMARY:Wüstentage
DESCRIPTION:Tiefgang finden: Worum geht es letztlich auf einem spirituellen Weg? \nDieser Frage soll in Gesprächen und auf dem praktischen Übungsweg der Meditation nachgespürt werden. \nDie Wüstentage sind Schweigetage – ein Angebot an Menschen\, die sich einüben möchten in elementare Grundhaltungen eines spirituellen Lebens.\nGestaltungselemente der gemeinsamen Runden sind thematische Einführungsgespräche\, Bildbetrachtungen\, spiritueller Erfahrungsaustausch und Meditation.
URL:https://klosterlandschaft-owl.de/event/wuestentage/2026-10-05/
LOCATION:Herstelle | Benediktinerinnenabtei vom Hl. Kreuz\, Carolus-Magnus-Str. 9\, Beverungen-Herstelle\, 37688
CATEGORIES:alle,Kurse
GEO:51.64018;9.41897
X-APPLE-STRUCTURED-LOCATION;VALUE=URI;X-ADDRESS=Herstelle | Benediktinerinnenabtei vom Hl. Kreuz Carolus-Magnus-Str. 9 Beverungen-Herstelle 37688;X-APPLE-RADIUS=500;X-TITLE=Carolus-Magnus-Str. 9:geo:9.41897,51.64018
END:VEVENT
BEGIN:VEVENT
DTSTART;TZID=Europe/Berlin:20261011T180000
DTEND;TZID=Europe/Berlin:20261011T180000
DTSTAMP:20260422T164550
CREATED:20251215T124926Z
LAST-MODIFIED:20251215T124926Z
UID:31117-1791741600-1791741600@klosterlandschaft-owl.de
SUMMARY:BACH – omnia opera organica V
DESCRIPTION:Toccata und Fuge in d – BWV 538 | Partita „Sei gegrüßet\, Jesu gütig“ – BWV 768 | Ciacona in d – BWV 1178\, Choralbearbeitungen\nDas Oeuvre J.S. Bachs für Orgel besteht aus über 200 Werken unterschiedlicher Gattungen wie Präludien und Fugen\, Choralbearbeitungen\, Sonaten\, Concerti\, Partiten und anderen. In seiner qualitativen und quantitativen Einzigartigkeit übertrifft es bis heute alles\, was je in einer Epoche für Orgel komponiert worden ist. \nMatthias Neumann führt das Gesamtwerk verteilt auf die Jahre 2025\, 2026 und 2027 im Schaumburger Land auf. Die wunderbaren Instrumente der St. Nikolai Kirche in Rinteln\, der Klosterkirche Möllenbeck\, der Stadtkirche Bückeburg und der Stiftskirche in Fischbeck eignen sich hervorragend dafür. In jedem Programm wird Bekanntes\, aber auch Unbekanntes zu hören sein – kein Werk wird doppelt erklingen! \n\nMatthias Neumann ist Professor für Orgel an der Hochschule für Musik Detmold. Als Organist verfolgt er eine rege internationale Konzerttätigkeit\, gibt Kurse und ist als Juror in Wettbewerben tätig. Einen besonderen Schwerpunkt seines Wirkens bildet die Musik des norddeutschen Barocks\, G. Muffats\, J.S. Bachs\, M. Regers und der französischen Schule des 19. und 20. Jahrhunderts. Seine Vorliebe für historische Instrumente ist in zahlreichen CD-Einspielungen und in Videoproduktionen\, u. a. bei „NOMINE“\, dokumentiert. Er ist Bach-Preisträger der Stadt Leipzig (2012). Nach erstem Orgelunterricht bei Kantor Wolfgang Westphal in Rinteln studierte er Kirchenmusik\, Orgel (Konzertexamen) und Dirigieren in Hamburg\, Berlin und Wien. Orgel bei Wolfgang Zerer\, Roman Summereder\, Leo van Doeselaar und Paolo Crivellaro\, sowie Dirigieren bei Christof Prick. Matthias Neumann war zunächst Kantor an der Kirche St. Marien der Gemeinde Ohlsdorf-Fuhlsbüttel in Hamburg. 2012 wurde er daneben als Professor an die Hochschule für ev. Kirchenmusik Bayreuth berufen. Wenige Jahre später wechselte er in Hamburg an die Hochschule für Musik und Theater\, bevor er 2022 dem Ruf an die Hochschule für Musik Detmold folgte. Aktuell widmet er sich einer auf zwei Jahre angelegten Gesamtaufführung aller Orgelwerke Johann Sebastian Bachs. \n→ FOLDER 2026 zum Herunterladen (PDF\, 3\,7 MB)
URL:https://klosterlandschaft-owl.de/event/bach-omnia-opera-organica-v/
LOCATION:Bückeburg | Stadtkirche\, Lange Str. 9\, Bückeburg\, Niedersachsen\, 31675\, Deutschland
CATEGORIES:alle
END:VEVENT
BEGIN:VEVENT
DTSTART;VALUE=DATE:20261012
DTEND;VALUE=DATE:20261016
DTSTAMP:20260422T164550
CREATED:20251007T051830Z
LAST-MODIFIED:20251007T051830Z
UID:30529-1791763200-1792108799@klosterlandschaft-owl.de
SUMMARY:Psalmen - Lieder des Glaubens. Hilfe zum Leben
DESCRIPTION:„Die Psalmen sind Gebete und Lieder aus einer lange vergangenen Zeit\, und doch sind es Worte\, in denen man sich selbst wiederfindet\,“ so beschrieb einmal der Alttestamentler Erich Zenger die Faszination dieser biblischen Verse. In den Psalmen spiegeln sich menschliche Erfahrungen – von der Klage über die Bitte bis hin zu Dank\, Jubel\, Lobpreis. In vielen Bildern beschreiben sie das Sich-Öffnen des Menschen zum DU Gottes. Diesen Bildern und Erfahrungen werden die Teilnehmer anhand einiger Beispiele nachspüren und schauen\, ob und wie sie für uns heute hilfreich sein können.
URL:https://klosterlandschaft-owl.de/event/psalmen-lieder-des-glaubens-hilfe-zum-leben/
LOCATION:Herstelle | Benediktinerinnenabtei vom Hl. Kreuz\, Carolus-Magnus-Str. 9\, Beverungen-Herstelle\, 37688
CATEGORIES:alle,Kurse
GEO:51.64018;9.41897
X-APPLE-STRUCTURED-LOCATION;VALUE=URI;X-ADDRESS=Herstelle | Benediktinerinnenabtei vom Hl. Kreuz Carolus-Magnus-Str. 9 Beverungen-Herstelle 37688;X-APPLE-RADIUS=500;X-TITLE=Carolus-Magnus-Str. 9:geo:9.41897,51.64018
END:VEVENT
BEGIN:VEVENT
DTSTART;TZID=Europe/Berlin:20261015T090000
DTEND;TZID=Europe/Berlin:20261015T180000
DTSTAMP:20260422T164550
CREATED:20251107T060551Z
LAST-MODIFIED:20251107T060551Z
UID:30705-1792054800-1792087200@klosterlandschaft-owl.de
SUMMARY:Den Tiger reiten – Ärger als Ressource für wirksames Handeln
DESCRIPTION:Das Grundgefühl Ärger setzt die Energie der Veränderung frei. Es unterstützt die Teilnehmenden dabei\, kraftvoll und entschieden ihre Ziele zu verfolgen und Grenzen zu setzen und mit Klarheit Ja und Nein zu sagen. Viele Menschen haben in ihrer Kindheit aber zu wenig gelernt\, dieses Gefühl zu spüren und sinnvoll auszudrücken. Im Erwachsenenalter fehlen ihnen dann oft Lebensenergie und die lustvolle Erfahrung von Selbstwirksamkeit. \nAn diesem Tag wecken die Teilnehmenden den Tiger in sich. Sie entwickeln ihre gesunde Energie des Ärgers im Schutz einer Gruppe weiter. So können sie in ihren beruflichen und privaten Rollen klar kommunizieren und selbstbewusst mit anderen kooperieren. \nMit den Modellen der TA gelingt es\, das überlebenswichtige Gefühl des Ärgers auf dem Hintergrund der eigenen Biografie zu verstehen. Die Philosophie und die Übungen des Qigong ermöglichen es\, dieses Gefühl willkommen zu heißen\, ins Spüren und in den Ausdruck zu bringen. Außerdem lernen die Teilnehmenden\, Ärger situationsangemessen zu regulieren und in sozialen Situationen gut zu nutzen. Die Teilnehmenden lernen Übungen und Strategien\, mit denen sie im Alltag gut für sich sorgen können und sich rollenangemessen und mit kraftvollem Stand vertreten können. \nIn mitten der Natur der Klosteranlage Hardehausen eröffnen sie sich mit TA und Qigong neue Erlebens- und Verhaltensspielräume.
URL:https://klosterlandschaft-owl.de/event/den-tiger-reiten-aerger-als-ressource-fuer-wirksames-handeln/
LOCATION:Hardehausen | Kloster | Kath. Landvolkshochschule\, Abt-Overgaer-Str. 1\, Warburg\, 34414
CATEGORIES:alle,Kurse
GEO:51.55049;8.9957901
X-APPLE-STRUCTURED-LOCATION;VALUE=URI;X-ADDRESS=Hardehausen | Kloster | Kath. Landvolkshochschule Abt-Overgaer-Str. 1 Warburg 34414;X-APPLE-RADIUS=500;X-TITLE=Abt-Overgaer-Str. 1:geo:8.9957901,51.55049
END:VEVENT
BEGIN:VEVENT
DTSTART;TZID=Europe/Berlin:20261016T163000
DTEND;TZID=Europe/Berlin:20261016T173000
DTSTAMP:20260422T164550
CREATED:20260222T155938Z
LAST-MODIFIED:20260222T163746Z
UID:31908-1792168200-1792171800@klosterlandschaft-owl.de
SUMMARY:Mit „Capacitar“ entspannt ins Wochenende
DESCRIPTION:Die einfachen Körper- und Entspannungsübungen von „Capacitar“ wurden entwickelt aus dem uraltem Heilwissen verschiedener Kulturen. Sie aktivieren die Selbstheilungsfähigkeit des Körpers und stärken die Lebenskraft. Sie bauen Spannungen ab\, helfen\, das innere Gleichgewicht wiederzufinden und besser mit stressigen oder belastenden Situationen zurechtzukommen.\nProbieren Sie sie in diesem Kurz-Workshop einfach aus\, und lassen Sie sich überraschen\, wie gut das tut! \nLeitung: Ingrid Janisch (Trainerin „Capacitar“); mehr über Capacitar: https://capacitar.org\nZeit: 16.30 Uhr bis 17.30 Uhr\nTreffpunkt: Eingang Garten der Stille\nAnmeldung: keine Anmeldung erforderlich
URL:https://klosterlandschaft-owl.de/event/mit-capacitar-entspannt-ins-wochenende/2026-10-16/
LOCATION:Detmold | Kupferberg | Institut St. Bonifatius | Garten der Stille\, Auf dem Kupferberg 1\, Detmold\, 32758
CATEGORIES:alle,Kurse
END:VEVENT
BEGIN:VEVENT
DTSTART;TZID=Europe/Berlin:20261017T093000
DTEND;TZID=Europe/Berlin:20261017T163000
DTSTAMP:20260422T164550
CREATED:20251107T060722Z
LAST-MODIFIED:20251107T060722Z
UID:30707-1792229400-1792254600@klosterlandschaft-owl.de
SUMMARY:Die Zukunft ist heute – Wie uns die Künstliche Intelligenz im Alltag helfen kann
DESCRIPTION:Künstliche Intelligenz ist längst in unserem Alltag angekommen. Sie kann uns unterstützen\, inspirieren und unser Leben bereichern. In diesem Seminar lernen die Teilnehmenden praxisnah\, was hinter KI steckt und wie sie sie konkret im Beruf und Privatleben nutzen können. Ob alltägliche Herausforderungen und Probleme präzise lösen\, Informationen schneller als mit Google finden\, kreative Texte und Bilder erstellen und vieles mehr: Mit vielen praktischen Übungen zeigen wir\, wie KI zum persönlichen Alltagshelfer wird. \nDozent: Johann Janzen (Lehrer\, Mentaltrainer)
URL:https://klosterlandschaft-owl.de/event/die-zukunft-ist-heute-wie-uns-die-kuenstliche-intelligenz-im-alltag-helfen-kann/
LOCATION:Hardehausen | Kloster | Kath. Landvolkshochschule\, Abt-Overgaer-Str. 1\, Warburg\, 34414
CATEGORIES:alle,Kurse
GEO:51.55049;8.9957901
X-APPLE-STRUCTURED-LOCATION;VALUE=URI;X-ADDRESS=Hardehausen | Kloster | Kath. Landvolkshochschule Abt-Overgaer-Str. 1 Warburg 34414;X-APPLE-RADIUS=500;X-TITLE=Abt-Overgaer-Str. 1:geo:8.9957901,51.55049
END:VEVENT
BEGIN:VEVENT
DTSTART;VALUE=DATE:20261019
DTEND;VALUE=DATE:20261024
DTSTAMP:20260422T164550
CREATED:20251007T063121Z
LAST-MODIFIED:20251007T063121Z
UID:30568-1792368000-1792799999@klosterlandschaft-owl.de
SUMMARY:Zeit für mich – im Lebensraum der Benediktusregel
DESCRIPTION:Tage der Ruhe und Sammlung in der Spiritualität der Benediktusregel \nDie bewährte Spiritualität der Regel des hl. Benedikt ermöglicht\, das eigene Leben in den Blick zu nehmen und den persönlichen Glaubensweg zu vertiefen. Dabei unterstützt die Teilnehmer die benediktinische Tagesstruktur im Rhythmus des Stundengebets. Spirituelle Impulse aus der Benediktusregel werden von weiteren geistlichen Angeboten aktualisiert. Die Teilnehmer haben Zeit für Stille und Gebet sowie die Möglichkeit zu Einzelgesprächen.
URL:https://klosterlandschaft-owl.de/event/zeit-fuer-mich-im-lebensraum-der-benediktusregel-2/
LOCATION:Varensell | Geistl. Zentrum_Abtei\, Hauptstr. 53\, Rietberg\, 33397
CATEGORIES:alle,Kurse
GEO:51.8592094;8.4386965
X-APPLE-STRUCTURED-LOCATION;VALUE=URI;X-ADDRESS=Varensell | Geistl. Zentrum_Abtei Hauptstr. 53 Rietberg 33397;X-APPLE-RADIUS=500;X-TITLE=Hauptstr. 53:geo:8.4386965,51.8592094
END:VEVENT
BEGIN:VEVENT
DTSTART;VALUE=DATE:20261029
DTEND;VALUE=DATE:20261031
DTSTAMP:20260422T164550
CREATED:20251107T060929Z
LAST-MODIFIED:20251107T060929Z
UID:30709-1793232000-1793404799@klosterlandschaft-owl.de
SUMMARY:Kommunikation und Persönlichkeit kompakt: 101-Einführungsseminar in die Systemische Transaktionsanalyse (TA)
DESCRIPTION:Geraten Sie manchmal in ein Gespräch\, das schiefläuft? Möchten Sie verstehen\, warum Menschen manchmal anders reagieren als Sie es für sinnvoll halten? Sind Sie an Ihrer beruflichen Professionalisierung interessiert? Möchten Sie wissen\, was sich hinter den Konzepten der Transaktionsanalyse verbirgt?\nIn diesem Kurs werden die Grundlagen der Systemischen Transaktionsanalyse (TA) vorgestellt und gemeinsam erarbeitet. Die Transaktionsanalyse integriert entwicklungspsychologische\, tiefenpsychologische und kommunikative Modelle und Methoden sowie systemische und organisationsbezogene Denk- und Handlungsweisen. Sie hat ihren festen Platz in folgenden Handlungsfeldern eingenommen: Organisationsentwicklung\, Mitarbeiterführung\, Beratung/ Supervision/Coaching\, in sozialen Feldern\, Bildung\, Therapie u.a.m. \nZielgruppe: Alle\, die in ihrem Berufsfeld professionell mit Menschen arbeiten. \nZiele des Seminars:\nÜberblick über die Kernkonzepte der Transaktionsanalyse\nVerstehen und Reflektieren von Kommunikations- und Konfliktmustern\nEinfluss von früheren biografischen Mustern und Glaubenssätzen auf Denken\, Fühlen und Handeln in der Gegenwart\nEntdecken von Ressourcen für die persönliche berufliche Praxis\nVerbesserung der Selbststeuerungs-\, Führungs- und Beratungskompetenzen \nSeminarinhalte:\nDie Transaktionsanalyse früher und ihre Wirkungen heute\nIch-Zustände – Woher kommt es\, dass ich so bin wie ich bin? Und wie bin ich mit anderen Menschen?\nTransaktionen – Wie gestalten Menschen gelingende oder misslingende Kommunikation?\nPsychologische Spiele – Welche Muster wirken in Konflikten und welche Wege führen zu konstruktivem Verhalten?\nSkript und Antreiber – Wie haben wir unsere persönlichen Lebensüberzeugungen in unserer Kindheit geschaffen und wie wirkt sich das auf unser Handeln heute aus?\nGefühle und Ersatzgefühle – Welche guten Kräfte verbergen sich in unseren echten Gefühlen und warum wählen wir manchmal einen Ersatz? \nMit anschaulichen Kurzvorträgen\, erfahrungsorientierten Übungen und Beispielen aus der Gruppe wird das Lernen lebendig und abwechslungsreich. Ihre Erkenntnisse und Erfahrungen können Sie sofort im Alltag erproben.\nDer Kurs wird nach den Richtlinien der deutschen Gesellschaft für Transaktionsanalyse durchgeführt und ist als erster Baustein einer TA – Weiterbildung anerkannt. Sie erhalten ein Zertifikat der Deutschen Gesellschaft für Transaktionsanalyse e.V. (DGTA). \nDozentin: Gerlinde Ziemendorff (Lehrende Transaktionsanalytikerin unter Supervision DGTA/ EATA\, Lehrsupervisorin und Supervisorin EASC)
URL:https://klosterlandschaft-owl.de/event/kommunikation-und-persoenlichkeit-kompakt-101-einfuehrungsseminar-in-die-systemische-transaktionsanalyse-ta/
LOCATION:Hardehausen | Kloster | Kath. Landvolkshochschule\, Abt-Overgaer-Str. 1\, Warburg\, 34414
CATEGORIES:alle,Kurse
GEO:51.55049;8.9957901
X-APPLE-STRUCTURED-LOCATION;VALUE=URI;X-ADDRESS=Hardehausen | Kloster | Kath. Landvolkshochschule Abt-Overgaer-Str. 1 Warburg 34414;X-APPLE-RADIUS=500;X-TITLE=Abt-Overgaer-Str. 1:geo:8.9957901,51.55049
END:VEVENT
BEGIN:VEVENT
DTSTART;TZID=Europe/Berlin:20261029T180000
DTEND;TZID=Europe/Berlin:20261029T180000
DTSTAMP:20260422T164550
CREATED:20250421T162735Z
LAST-MODIFIED:20260211T100226Z
UID:31855-1793296800-1793296800@klosterlandschaft-owl.de
SUMMARY:Heilungsgebet
DESCRIPTION:»Das Größte in unserem Leben ist die Liebe. Sie heilt Verletzungen und Wunden. Durch gemeinsames Gebet\, Musik und Meditation bitten wir Gott für uns und unsere Mitmenschen um dieses hohe Gut der Liebe.« \nDas Heilungsgebet findet jeweils am letzten Donnerstag eines Monats um 18.00 Uhr in der St.Raphael-Kapelle\, Papenhausen\, statt.
URL:https://klosterlandschaft-owl.de/event/heilungsgebet-2026-01-29/2026-10-29/
LOCATION:Bad Salzuflen-Papenhausen | Lebensgemeinschaft St. Raphael\, Am Kahlen Berge 3\, Bad Salzuflen-Papenhausen\, NRW\, 32108\, Deutschland
CATEGORIES:alle
END:VEVENT
BEGIN:VEVENT
DTSTART;TZID=Europe/Berlin:20261030T200000
DTEND;TZID=Europe/Berlin:20261030T200000
DTSTAMP:20260422T164550
CREATED:20260128T190044Z
LAST-MODIFIED:20260412T120608Z
UID:31836-1793390400-1793390400@klosterlandschaft-owl.de
SUMMARY:Blue Church II
DESCRIPTION:Von den Heiligen.\nBenny Düring · Jazz-Piano \nEintritt frei (Kollekte).
URL:https://klosterlandschaft-owl.de/event/blue-church-2/
LOCATION:Corvey | Abteikirche\, Corvey\, Höxter-Corvey\, 37671
CATEGORIES:alle
END:VEVENT
END:VCALENDAR