BEGIN:VCALENDAR
VERSION:2.0
PRODID:-//Klosterlandschaft OWL - ECPv6.15.20//NONSGML v1.0//EN
CALSCALE:GREGORIAN
METHOD:PUBLISH
X-WR-CALNAME:Klosterlandschaft OWL
X-ORIGINAL-URL:https://klosterlandschaft-owl.de
X-WR-CALDESC:Veranstaltungen für Klosterlandschaft OWL
REFRESH-INTERVAL;VALUE=DURATION:PT1H
X-Robots-Tag:noindex
X-PUBLISHED-TTL:PT1H
BEGIN:VTIMEZONE
TZID:Europe/Berlin
BEGIN:DAYLIGHT
TZOFFSETFROM:+0100
TZOFFSETTO:+0200
TZNAME:CEST
DTSTART:20250330T010000
END:DAYLIGHT
BEGIN:STANDARD
TZOFFSETFROM:+0200
TZOFFSETTO:+0100
TZNAME:CET
DTSTART:20251026T010000
END:STANDARD
BEGIN:DAYLIGHT
TZOFFSETFROM:+0100
TZOFFSETTO:+0200
TZNAME:CEST
DTSTART:20260329T010000
END:DAYLIGHT
BEGIN:STANDARD
TZOFFSETFROM:+0200
TZOFFSETTO:+0100
TZNAME:CET
DTSTART:20261025T010000
END:STANDARD
BEGIN:DAYLIGHT
TZOFFSETFROM:+0100
TZOFFSETTO:+0200
TZNAME:CEST
DTSTART:20270328T010000
END:DAYLIGHT
BEGIN:STANDARD
TZOFFSETFROM:+0200
TZOFFSETTO:+0100
TZNAME:CET
DTSTART:20271031T010000
END:STANDARD
END:VTIMEZONE
BEGIN:VEVENT
DTSTART;VALUE=DATE:20260904
DTEND;VALUE=DATE:20260907
DTSTAMP:20260422T151843
CREATED:20251007T062816Z
LAST-MODIFIED:20251007T062816Z
UID:30566-1788480000-1788739199@klosterlandschaft-owl.de
SUMMARY:„Ruhestand – und was kommt dann?“
DESCRIPTION:Auseinandersetzung mit Veränderungen: Der Übergang vom Berufsleben in den Ruhestand ist für viele Menschen einer der intensivsten Umbrüche im Leben. In dem Seminar geht es um Rückschau und Ausblick\, um die Auseinandersetzungen mit den Gefühlen\, die dabei entstehen\, und letztlich um die Neugierde auf das\, was uns im Leben noch erwartet. Das Seminar wird gestaltet von Dr. med. Peter Henn\, Facharzt für Anästhesiologie\, zusätzlich qualifiziert in Palliativmedizin\, tiefenpsychologisch orientierter Psychotherapie und Psychoonkologie.
URL:https://klosterlandschaft-owl.de/event/ruhestand-und-was-kommt-dann-2/
LOCATION:Varensell | Geistl. Zentrum_Abtei\, Hauptstr. 53\, Rietberg\, 33397
CATEGORIES:alle,Kurse
GEO:51.8592094;8.4386965
X-APPLE-STRUCTURED-LOCATION;VALUE=URI;X-ADDRESS=Varensell | Geistl. Zentrum_Abtei Hauptstr. 53 Rietberg 33397;X-APPLE-RADIUS=500;X-TITLE=Hauptstr. 53:geo:8.4386965,51.8592094
END:VEVENT
BEGIN:VEVENT
DTSTART;VALUE=DATE:20260904
DTEND;VALUE=DATE:20260907
DTSTAMP:20260422T151843
CREATED:20251007T045459Z
LAST-MODIFIED:20251007T045459Z
UID:30507-1788480000-1788739199@klosterlandschaft-owl.de
SUMMARY:Yoga und Achtsamkeit
DESCRIPTION:Yoga ist ein alter und erprobter Erfahrungsweg\, der den Körper stärkt und dem Geist Ruhe schenkt. Die Achtsamkeit\, die im sanften und konzentrierten Üben entsteht\, hilft dabei\, klarer zu werden und die innere Stille zu entdecken. Inhalt des Wochenendes: sanfte Bewegungsabläufe und einfache Haltungen\, Atemübungen\, Meditation\, Konzentrations- und Achtsamkeitsübungen und viel Entspannung. Impulse zu Anatomie\, Psychologie\, Philosophie und der Wirkweise von Yoga runden das Seminar ab. Es bleibt Zeit für den Austausch in der Gruppe und persönliche Ruhezeiten. Das Seminar ist eingebettet in den Rhythmus der Gebetszeiten. Bitte bequeme Kleidung mitbringen und – falls vorhanden – eine Yogamatte. Vorkenntnisse sind nicht erforderlich.
URL:https://klosterlandschaft-owl.de/event/yoga-und-achtsamkeit-2/2026-09-04/
LOCATION:Herstelle | Benediktinerinnenabtei vom Hl. Kreuz\, Carolus-Magnus-Str. 9\, Beverungen-Herstelle\, 37688
CATEGORIES:alle,Kurse
GEO:51.64018;9.41897
X-APPLE-STRUCTURED-LOCATION;VALUE=URI;X-ADDRESS=Herstelle | Benediktinerinnenabtei vom Hl. Kreuz Carolus-Magnus-Str. 9 Beverungen-Herstelle 37688;X-APPLE-RADIUS=500;X-TITLE=Carolus-Magnus-Str. 9:geo:9.41897,51.64018
END:VEVENT
BEGIN:VEVENT
DTSTART;TZID=Europe/Berlin:20260905T143000
DTEND;TZID=Europe/Berlin:20260905T170000
DTSTAMP:20260422T151843
CREATED:20260412T150352Z
LAST-MODIFIED:20260412T150352Z
UID:32063-1788618600-1788627600@klosterlandschaft-owl.de
SUMMARY:»Communicare«
DESCRIPTION:Kunstinstallation von Axel Plöger \nImprovisation und Motivation sind zwei grundlegende Konzepte in der Malerei von Axel Plöger. Die entstehenden Arbeiten zeigen Schichten von Linien und Strukturen. Zeit und Farbe verbinden sich zu komplexen Bildräumen. – Axel Plöger lebte als Künstler nach seinem Studium der freien Kunst an der HbK Kassel für sechs Jahre in Lima\, Peru. Seit mehr als zwanzig Jahren ist er nun als freischaffender Maler mit Atelier in Detmold tätig. \nDie Vernissage findet statt am Sonntag\, 14. Juni 2026\, 15 Uhr. \n\nDie Ausstellung endet am 13. September 2026 und ist jeweils samstags von 14:30 bis 17:00 Uhr und sonntags von ca. 12:00 Uhr (nach dem Gottesdienst) bis 17:00 Uhr geöffnet.
URL:https://klosterlandschaft-owl.de/event/communicare/2026-09-05/
LOCATION:Warburg | Evang. Kirche Maria im Weinberg\, Brüderkirchhof\, Warburg\, 34414
CATEGORIES:alle,Festival
GEO:51.4871844;9.1474859
X-APPLE-STRUCTURED-LOCATION;VALUE=URI;X-ADDRESS=Warburg | Evang. Kirche Maria im Weinberg Brüderkirchhof Warburg 34414;X-APPLE-RADIUS=500;X-TITLE=Brüderkirchhof:geo:9.1474859,51.4871844
END:VEVENT
BEGIN:VEVENT
DTSTART;TZID=Europe/Berlin:20260906T120000
DTEND;TZID=Europe/Berlin:20260906T170000
DTSTAMP:20260422T151843
CREATED:20260412T150352Z
LAST-MODIFIED:20260412T150352Z
UID:32064-1788696000-1788714000@klosterlandschaft-owl.de
SUMMARY:»Communicare«
DESCRIPTION:Kunstinstallation von Axel Plöger \nImprovisation und Motivation sind zwei grundlegende Konzepte in der Malerei von Axel Plöger. Die entstehenden Arbeiten zeigen Schichten von Linien und Strukturen. Zeit und Farbe verbinden sich zu komplexen Bildräumen. – Axel Plöger lebte als Künstler nach seinem Studium der freien Kunst an der HbK Kassel für sechs Jahre in Lima\, Peru. Seit mehr als zwanzig Jahren ist er nun als freischaffender Maler mit Atelier in Detmold tätig. \nDie Vernissage findet statt am Sonntag\, 14. Juni 2026\, 15 Uhr. \n\nDie Ausstellung endet am 13. September 2026 und ist jeweils samstags von 14:30 bis 17:00 Uhr und sonntags von ca. 12:00 Uhr (nach dem Gottesdienst) bis 17:00 Uhr geöffnet.
URL:https://klosterlandschaft-owl.de/event/communicare/2026-09-06/
LOCATION:Warburg | Evang. Kirche Maria im Weinberg\, Brüderkirchhof\, Warburg\, 34414
CATEGORIES:alle,Festival
GEO:51.4871844;9.1474859
X-APPLE-STRUCTURED-LOCATION;VALUE=URI;X-ADDRESS=Warburg | Evang. Kirche Maria im Weinberg Brüderkirchhof Warburg 34414;X-APPLE-RADIUS=500;X-TITLE=Brüderkirchhof:geo:9.1474859,51.4871844
END:VEVENT
BEGIN:VEVENT
DTSTART;VALUE=DATE:20260911
DTEND;VALUE=DATE:20260914
DTSTAMP:20260422T151843
CREATED:20251007T050100Z
LAST-MODIFIED:20251007T050100Z
UID:30513-1789084800-1789343999@klosterlandschaft-owl.de
SUMMARY:T‘ai Chi und Beten (Kennlernkurs)
DESCRIPTION:Über einen äußeren Übungsweg einen inneren Weg entdecken T’ai Chi Chuan ist eine alte Bewegungskunst aus dem chinesischen Kulturkreis. Die langsamen\, gleichmäßigen\, ausgewogenen und dadurch meditativen Bewegungen haben vielfältige positive Auswirkungen auf Körper\, Geist und Seele. Vertieft werden die Tage durch Sitzmeditationen und durch die Möglichkeit zur Teilnahme an den Gebetszeiten der klösterlichen Gemeinschaft.
URL:https://klosterlandschaft-owl.de/event/tai-chi-und-beten-kennlernkurs/
LOCATION:Herstelle | Benediktinerinnenabtei vom Hl. Kreuz\, Carolus-Magnus-Str. 9\, Beverungen-Herstelle\, 37688
CATEGORIES:alle,Kurse
GEO:51.64018;9.41897
X-APPLE-STRUCTURED-LOCATION;VALUE=URI;X-ADDRESS=Herstelle | Benediktinerinnenabtei vom Hl. Kreuz Carolus-Magnus-Str. 9 Beverungen-Herstelle 37688;X-APPLE-RADIUS=500;X-TITLE=Carolus-Magnus-Str. 9:geo:9.41897,51.64018
END:VEVENT
BEGIN:VEVENT
DTSTART;VALUE=DATE:20260911
DTEND;VALUE=DATE:20260914
DTSTAMP:20260422T151843
CREATED:20251007T061856Z
LAST-MODIFIED:20251007T061856Z
UID:30552-1789084800-1789343999@klosterlandschaft-owl.de
SUMMARY:Meditatives Bogenschießen
DESCRIPTION:Meditatives Bogenschießen ist eine faszinierende Form\, Körper\, Geist und Seele in Einklang zu bringen. Der Umgang mit Bogen und Pfeil unter fachkundiger Anleitung führen zur eigenen Mitte und verhelfen zu mehr Aufmerksamkeit\, Achtsamkeit und Gelassenheit. Geistliche Impulse zu Texten aus der Heiligen Schrift und aus weiteren Quellen ergänzen und vertiefen die praktischen Übungen. Vorkenntnisse im Bogenschießen sind nicht erforderlich.
URL:https://klosterlandschaft-owl.de/event/meditatives-bogenschiessen-2/2026-09-11/
LOCATION:Varensell | Geistl. Zentrum_Abtei\, Hauptstr. 53\, Rietberg\, 33397
CATEGORIES:alle,Kurse
GEO:51.8592094;8.4386965
X-APPLE-STRUCTURED-LOCATION;VALUE=URI;X-ADDRESS=Varensell | Geistl. Zentrum_Abtei Hauptstr. 53 Rietberg 33397;X-APPLE-RADIUS=500;X-TITLE=Hauptstr. 53:geo:8.4386965,51.8592094
END:VEVENT
BEGIN:VEVENT
DTSTART;TZID=Europe/Berlin:20260911T163000
DTEND;TZID=Europe/Berlin:20260911T173000
DTSTAMP:20260422T151843
CREATED:20260222T155938Z
LAST-MODIFIED:20260222T163745Z
UID:31907-1789144200-1789147800@klosterlandschaft-owl.de
SUMMARY:Mit „Capacitar“ entspannt ins Wochenende
DESCRIPTION:Die einfachen Körper- und Entspannungsübungen von „Capacitar“ wurden entwickelt aus dem uraltem Heilwissen verschiedener Kulturen. Sie aktivieren die Selbstheilungsfähigkeit des Körpers und stärken die Lebenskraft. Sie bauen Spannungen ab\, helfen\, das innere Gleichgewicht wiederzufinden und besser mit stressigen oder belastenden Situationen zurechtzukommen.\nProbieren Sie sie in diesem Kurz-Workshop einfach aus\, und lassen Sie sich überraschen\, wie gut das tut! \nLeitung: Ingrid Janisch (Trainerin „Capacitar“); mehr über Capacitar: https://capacitar.org\nZeit: 16.30 Uhr bis 17.30 Uhr\nTreffpunkt: Eingang Garten der Stille\nAnmeldung: keine Anmeldung erforderlich
URL:https://klosterlandschaft-owl.de/event/mit-capacitar-entspannt-ins-wochenende/2026-09-11/
LOCATION:Detmold | Kupferberg | Institut St. Bonifatius | Garten der Stille\, Auf dem Kupferberg 1\, Detmold\, 32758
CATEGORIES:alle,Kurse
END:VEVENT
BEGIN:VEVENT
DTSTART;TZID=Europe/Berlin:20260912T143000
DTEND;TZID=Europe/Berlin:20260912T170000
DTSTAMP:20260422T151843
CREATED:20260412T150352Z
LAST-MODIFIED:20260412T150352Z
UID:32065-1789223400-1789232400@klosterlandschaft-owl.de
SUMMARY:»Communicare«
DESCRIPTION:Kunstinstallation von Axel Plöger \nImprovisation und Motivation sind zwei grundlegende Konzepte in der Malerei von Axel Plöger. Die entstehenden Arbeiten zeigen Schichten von Linien und Strukturen. Zeit und Farbe verbinden sich zu komplexen Bildräumen. – Axel Plöger lebte als Künstler nach seinem Studium der freien Kunst an der HbK Kassel für sechs Jahre in Lima\, Peru. Seit mehr als zwanzig Jahren ist er nun als freischaffender Maler mit Atelier in Detmold tätig. \nDie Vernissage findet statt am Sonntag\, 14. Juni 2026\, 15 Uhr. \n\nDie Ausstellung endet am 13. September 2026 und ist jeweils samstags von 14:30 bis 17:00 Uhr und sonntags von ca. 12:00 Uhr (nach dem Gottesdienst) bis 17:00 Uhr geöffnet.
URL:https://klosterlandschaft-owl.de/event/communicare/2026-09-12/
LOCATION:Warburg | Evang. Kirche Maria im Weinberg\, Brüderkirchhof\, Warburg\, 34414
CATEGORIES:alle,Festival
GEO:51.4871844;9.1474859
X-APPLE-STRUCTURED-LOCATION;VALUE=URI;X-ADDRESS=Warburg | Evang. Kirche Maria im Weinberg Brüderkirchhof Warburg 34414;X-APPLE-RADIUS=500;X-TITLE=Brüderkirchhof:geo:9.1474859,51.4871844
END:VEVENT
BEGIN:VEVENT
DTSTART;TZID=Europe/Berlin:20260913T120000
DTEND;TZID=Europe/Berlin:20260913T170000
DTSTAMP:20260422T151843
CREATED:20260412T150352Z
LAST-MODIFIED:20260412T150352Z
UID:32066-1789300800-1789318800@klosterlandschaft-owl.de
SUMMARY:»Communicare«
DESCRIPTION:Kunstinstallation von Axel Plöger \nImprovisation und Motivation sind zwei grundlegende Konzepte in der Malerei von Axel Plöger. Die entstehenden Arbeiten zeigen Schichten von Linien und Strukturen. Zeit und Farbe verbinden sich zu komplexen Bildräumen. – Axel Plöger lebte als Künstler nach seinem Studium der freien Kunst an der HbK Kassel für sechs Jahre in Lima\, Peru. Seit mehr als zwanzig Jahren ist er nun als freischaffender Maler mit Atelier in Detmold tätig. \nDie Vernissage findet statt am Sonntag\, 14. Juni 2026\, 15 Uhr. \n\nDie Ausstellung endet am 13. September 2026 und ist jeweils samstags von 14:30 bis 17:00 Uhr und sonntags von ca. 12:00 Uhr (nach dem Gottesdienst) bis 17:00 Uhr geöffnet.
URL:https://klosterlandschaft-owl.de/event/communicare/2026-09-13/
LOCATION:Warburg | Evang. Kirche Maria im Weinberg\, Brüderkirchhof\, Warburg\, 34414
CATEGORIES:alle,Festival
GEO:51.4871844;9.1474859
X-APPLE-STRUCTURED-LOCATION;VALUE=URI;X-ADDRESS=Warburg | Evang. Kirche Maria im Weinberg Brüderkirchhof Warburg 34414;X-APPLE-RADIUS=500;X-TITLE=Brüderkirchhof:geo:9.1474859,51.4871844
END:VEVENT
BEGIN:VEVENT
DTSTART;TZID=Europe/Berlin:20260913T170000
DTEND;TZID=Europe/Berlin:20260913T170000
DTSTAMP:20260422T151843
CREATED:20260128T185645Z
LAST-MODIFIED:20260128T185645Z
UID:31830-1789318800-1789318800@klosterlandschaft-owl.de
SUMMARY:Orgelvesper
DESCRIPTION:Am Tag des offenen Denkmals – Thema: NETZwerke: Denkmale & Infrastruktur \nProf. Dr. Friedhelm Flamme – Orgel \nEintritt frei (Kollekte).
URL:https://klosterlandschaft-owl.de/event/orgelvesper-2/
LOCATION:Corvey | Abteikirche\, Corvey\, Höxter-Corvey\, 37671
CATEGORIES:alle
END:VEVENT
BEGIN:VEVENT
DTSTART;VALUE=DATE:20260918
DTEND;VALUE=DATE:20260921
DTSTAMP:20260422T151843
CREATED:20251107T060404Z
LAST-MODIFIED:20251107T060404Z
UID:30703-1789689600-1789948799@klosterlandschaft-owl.de
SUMMARY:Wochenende für Familien
DESCRIPTION:Zu einem bunten Wochenende sind herzlich Familien mit Kindern eingeladen. Durch die Kraft der Elemente\, unsere Stärke\, Mut\, Weitblick und unsere Ziele werden wir vorangetrieben\, Liebende Mitmenschen und die Liebe Gottes lassen uns Erstaunliches vollbringen. An diesem Familienwochenende können die Teilnehmenden dies alles erfahren und dessen besinnen und mit Bewegung und Kreativität ein abenteuerliches Wochenende erleben. Es stehen Aktivitäten drinnen und draußen auf dem Programm ebenso wie Sing- \, Spiel- und Bastelrunden. \nDozentin: Annette Kerkhoff (Erzieherin\, Entspannungs- und Bewegungspädagogin)
URL:https://klosterlandschaft-owl.de/event/wochenende-fuer-familien/
LOCATION:Hardehausen | Kloster | Kath. Landvolkshochschule\, Abt-Overgaer-Str. 1\, Warburg\, 34414
CATEGORIES:alle,Kurse
GEO:51.55049;8.9957901
X-APPLE-STRUCTURED-LOCATION;VALUE=URI;X-ADDRESS=Hardehausen | Kloster | Kath. Landvolkshochschule Abt-Overgaer-Str. 1 Warburg 34414;X-APPLE-RADIUS=500;X-TITLE=Abt-Overgaer-Str. 1:geo:8.9957901,51.55049
END:VEVENT
BEGIN:VEVENT
DTSTART;TZID=Europe/Berlin:20260919T170000
DTEND;TZID=Europe/Berlin:20260919T170000
DTSTAMP:20260422T151843
CREATED:20260327T071615Z
LAST-MODIFIED:20260327T071615Z
UID:31976-1789837200-1789837200@klosterlandschaft-owl.de
SUMMARY:Ostönner Orgelsommer
DESCRIPTION:Hilger Kespohl (Hamburg-Neuenfelde). Der Eintritt ist frei – Spenden sind willkommen.
URL:https://klosterlandschaft-owl.de/event/ostoenner-orgelsommer-4/
LOCATION:Ostönnen | Ev. Kirche St. Andreas\, Kirchplatz 10\, Soest\, NRW\, 59494\, Deutschland
CATEGORIES:alle,Festival
END:VEVENT
BEGIN:VEVENT
DTSTART;TZID=Europe/Berlin:20260924T180000
DTEND;TZID=Europe/Berlin:20260924T180000
DTSTAMP:20260422T151843
CREATED:20250421T162735Z
LAST-MODIFIED:20260211T100224Z
UID:31854-1790272800-1790272800@klosterlandschaft-owl.de
SUMMARY:Heilungsgebet
DESCRIPTION:»Das Größte in unserem Leben ist die Liebe. Sie heilt Verletzungen und Wunden. Durch gemeinsames Gebet\, Musik und Meditation bitten wir Gott für uns und unsere Mitmenschen um dieses hohe Gut der Liebe.« \nDas Heilungsgebet findet jeweils am letzten Donnerstag eines Monats um 18.00 Uhr in der St.Raphael-Kapelle\, Papenhausen\, statt.
URL:https://klosterlandschaft-owl.de/event/heilungsgebet-2026-01-29/2026-09-24/
LOCATION:Bad Salzuflen-Papenhausen | Lebensgemeinschaft St. Raphael\, Am Kahlen Berge 3\, Bad Salzuflen-Papenhausen\, NRW\, 32108\, Deutschland
CATEGORIES:alle
END:VEVENT
BEGIN:VEVENT
DTSTART;TZID=Europe/Berlin:20260925T210000
DTEND;TZID=Europe/Berlin:20260925T210000
DTSTAMP:20260422T151843
CREATED:20260412T115924Z
LAST-MODIFIED:20260412T120641Z
UID:31999-1790370000-1790370000@klosterlandschaft-owl.de
SUMMARY:Blue Church I
DESCRIPTION:Von den Engeln.\nCharlotte Kulow · Sopran | Gregorianik-Schola Marienmünster und Corvey \nDer Eintritt ist frei (Kollekte).
URL:https://klosterlandschaft-owl.de/event/blue-church-4/
LOCATION:Corvey | Abteikirche\, Corvey\, Höxter-Corvey\, 37671
CATEGORIES:alle
END:VEVENT
BEGIN:VEVENT
DTSTART;VALUE=DATE:20260928
DTEND;VALUE=DATE:20261003
DTSTAMP:20260422T151843
CREATED:20251005T110831Z
LAST-MODIFIED:20251005T111359Z
UID:30490-1790553600-1790985599@klosterlandschaft-owl.de
SUMMARY:Exerzitien in der Kleingruppe
DESCRIPTION:Die Tage laden ein\, achtsames Leben einzuüben und Gottes Führung im eigenen Leben neu zu entdecken. Tägliche Elemente sind durchgängiges Schweigen\, Hören auf das Wort Gottes\, persönliches Gebet; Einladung zur Feier der Liturgie mit dem Konvent; Impuls in der Gruppe sowie Einzelgespräch.
URL:https://klosterlandschaft-owl.de/event/exerzitien-in-der-kleingruppe-2/2026-09-28/
LOCATION:Herstelle | Benediktinerinnenabtei vom Hl. Kreuz\, Carolus-Magnus-Str. 9\, Beverungen-Herstelle\, 37688
CATEGORIES:alle,Kurse
GEO:51.64018;9.41897
X-APPLE-STRUCTURED-LOCATION;VALUE=URI;X-ADDRESS=Herstelle | Benediktinerinnenabtei vom Hl. Kreuz Carolus-Magnus-Str. 9 Beverungen-Herstelle 37688;X-APPLE-RADIUS=500;X-TITLE=Carolus-Magnus-Str. 9:geo:9.41897,51.64018
END:VEVENT
END:VCALENDAR