BEGIN:VCALENDAR
VERSION:2.0
PRODID:-//Klosterlandschaft OWL - ECPv6.15.20//NONSGML v1.0//EN
CALSCALE:GREGORIAN
METHOD:PUBLISH
X-WR-CALNAME:Klosterlandschaft OWL
X-ORIGINAL-URL:https://klosterlandschaft-owl.de
X-WR-CALDESC:Veranstaltungen für Klosterlandschaft OWL
REFRESH-INTERVAL;VALUE=DURATION:PT1H
X-Robots-Tag:noindex
X-PUBLISHED-TTL:PT1H
BEGIN:VTIMEZONE
TZID:Europe/Berlin
BEGIN:DAYLIGHT
TZOFFSETFROM:+0100
TZOFFSETTO:+0200
TZNAME:CEST
DTSTART:20250330T010000
END:DAYLIGHT
BEGIN:STANDARD
TZOFFSETFROM:+0200
TZOFFSETTO:+0100
TZNAME:CET
DTSTART:20251026T010000
END:STANDARD
BEGIN:DAYLIGHT
TZOFFSETFROM:+0100
TZOFFSETTO:+0200
TZNAME:CEST
DTSTART:20260329T010000
END:DAYLIGHT
BEGIN:STANDARD
TZOFFSETFROM:+0200
TZOFFSETTO:+0100
TZNAME:CET
DTSTART:20261025T010000
END:STANDARD
BEGIN:DAYLIGHT
TZOFFSETFROM:+0100
TZOFFSETTO:+0200
TZNAME:CEST
DTSTART:20270328T010000
END:DAYLIGHT
BEGIN:STANDARD
TZOFFSETFROM:+0200
TZOFFSETTO:+0100
TZNAME:CET
DTSTART:20271031T010000
END:STANDARD
END:VTIMEZONE
BEGIN:VEVENT
DTSTART;VALUE=DATE:20260424
DTEND;VALUE=DATE:20260426
DTSTAMP:20260424T121757
CREATED:20260222T154320Z
LAST-MODIFIED:20260222T163342Z
UID:31895-1776988800-1777161599@klosterlandschaft-owl.de
SUMMARY:Kreative Schreibwerkstatt im Garten der Stille
DESCRIPTION:Teil 1: „Jahreszeiten – Lebenszeiten: Frühling“\nVogelgesang und Sonnenwärme? Aufleben\, Leichtigkeit und Tatendrang?\nDie Schreibwerkstatt lädt dazu ein\, die Schnittmengen von Jahreszeiten und Lebenszeiten schreibend zu erkunden. Wir lassen uns von der Natur im Garten der Stille mit dem angrenzenden Wald inspirieren. Die künstlerischen und spirituellen Installationen des Gartens\, wie der Natur-Webrahmen\, die Sonnenuhr oder das Labyrinth geben weitere Impulse für kreative Schreibideen. Dabei lassen sich interessante Fragestellungen aus der eigenen Biografie entdecken. \nDas Seminar richtet sich an beginnende und erfahrene Schreiber:innen. Die Schreibübungen finden sowohl im Garten als auch im Seminarraum statt. Der Zugang zum Garten ist nicht barrierefrei. \nMachen Sie das Wochenende zu einer kleinen Auszeit und buchen Sie im Institut St. Bonifatius eine Übernachtung dazu: 0 52 31 / 61 20. \nZeit: Freitag 24. April 2026 (16.30 bis 21.15 Uhr) und Samstag 25. April 2026 (9 bis 15.30 Uhr)\nLeitung: Annika Ginau\, Schreibpädagogin und Trainerin für Biografiearbeit. Weitere Informationen zur Referentin unter https://annika-ginau.de\nGebühr: 85\,00 € inkl. inkl. Verpflegung (Abendessen\, Mittagessen\, Kaffeepause)\, Seminarleitung.\nOhne Übernachtung. Übernachtung auf Anfrage möglich.\nTN-Zahl: mind. 10\, max. 12\nAnmeldung bis spätestens 31. März über die Homepage der Lippischen Landeskirche\nHinweis: Der zweite Teil der Veranstaltung findet im Herbst statt\, vom 6.-7. November 2026. Beide Veranstaltungen (Teil 1 Frühling / Teil 2 Herbst) können separat gebucht werden.
URL:https://klosterlandschaft-owl.de/event/kreative-schreibwerkstatt-im-garten-der-stille/
LOCATION:Detmold | Kupferberg | Institut St. Bonifatius | Garten der Stille\, Auf dem Kupferberg 1\, Detmold\, 32758
CATEGORIES:alle,Kurse
END:VEVENT
END:VCALENDAR