BEGIN:VCALENDAR
VERSION:2.0
PRODID:-//Klosterlandschaft OWL - ECPv6.15.20//NONSGML v1.0//EN
CALSCALE:GREGORIAN
METHOD:PUBLISH
X-ORIGINAL-URL:https://klosterlandschaft-owl.de
X-WR-CALDESC:Veranstaltungen für Klosterlandschaft OWL
REFRESH-INTERVAL;VALUE=DURATION:PT1H
X-Robots-Tag:noindex
X-PUBLISHED-TTL:PT1H
BEGIN:VTIMEZONE
TZID:Europe/Berlin
BEGIN:DAYLIGHT
TZOFFSETFROM:+0100
TZOFFSETTO:+0200
TZNAME:CEST
DTSTART:20250330T010000
END:DAYLIGHT
BEGIN:STANDARD
TZOFFSETFROM:+0200
TZOFFSETTO:+0100
TZNAME:CET
DTSTART:20251026T010000
END:STANDARD
BEGIN:DAYLIGHT
TZOFFSETFROM:+0100
TZOFFSETTO:+0200
TZNAME:CEST
DTSTART:20260329T010000
END:DAYLIGHT
BEGIN:STANDARD
TZOFFSETFROM:+0200
TZOFFSETTO:+0100
TZNAME:CET
DTSTART:20261025T010000
END:STANDARD
BEGIN:DAYLIGHT
TZOFFSETFROM:+0100
TZOFFSETTO:+0200
TZNAME:CEST
DTSTART:20270328T010000
END:DAYLIGHT
BEGIN:STANDARD
TZOFFSETFROM:+0200
TZOFFSETTO:+0100
TZNAME:CET
DTSTART:20271031T010000
END:STANDARD
END:VTIMEZONE
BEGIN:VEVENT
DTSTART;TZID=Europe/Berlin:20260509T080000
DTEND;TZID=Europe/Berlin:20260509T100000
DTSTAMP:20260419T151415
CREATED:20260222T153016Z
LAST-MODIFIED:20260222T153016Z
UID:31889-1778313600-1778320800@klosterlandschaft-owl.de
SUMMARY:Vogelstimmenspaziergang
DESCRIPTION:Im Frühjahr dringt mal leise\, mal laut und verwirrend der Gesang der Vögel an unser Ohr. Aber welcher Vogel singt dort eigentlich? Kann ich den Gesang von Vögeln wiedererkennen? Wer den Gesang unserer gefiederten Mitgeschöpfe kennenlernen möchte\, ist herzlich eingeladen zu den Vogelstimmenspaziergängen. Auf dem Rundgang lernen Sie unter sachkundiger Leitung Vogelstimmen zu unterscheiden und die Schönheiten der Schöpfung Gottes aufmerksam nachzugehen. \nAnschließend besteht die Möglichkeit\, den Spaziergang mit einem gemütlichen Beisammensein und „Aufwärmen“ im „Foyer Kupferberg“ ausklingen zu lassen. \nLeitung: Pfr. Dr. Dr. Marcus Jacobs\nZeit: 8 bis ca. 10 Uhr\nTreffpunkt: Parkplatz oben am Waldfriedhof Kupferberg\nEtappe: Rundweg (ca. 1-2 km)\nKosten: keine\, außer ggf. Verzehr im Foyer Kupferberg\nHinweis: geeignetes Schuhwerk erforderlich; ein Fernglas\, falls vorhanden\, ist nützlich zum Aufsuchen der Vögel\nAnmeldung: keine Anmeldung erforderlich
URL:https://klosterlandschaft-owl.de/event/vogelstimmenspaziergang/2026-05-09/
LOCATION:Detmold | Kupferberg | Institut St. Bonifatius | Garten der Stille\, Auf dem Kupferberg 1\, Detmold\, 32758
CATEGORIES:alle
END:VEVENT
END:VCALENDAR